BEGIN:VCALENDAR
VERSION:2.0
PRODID:-// - ECPv6.15.20//NONSGML v1.0//EN
CALSCALE:GREGORIAN
METHOD:PUBLISH
X-ORIGINAL-URL:https://minjanffm.de
X-WR-CALDESC:Veranstaltungen für 
REFRESH-INTERVAL;VALUE=DURATION:PT1H
X-Robots-Tag:noindex
X-PUBLISHED-TTL:PT1H
BEGIN:VTIMEZONE
TZID:Europe/Berlin
BEGIN:DAYLIGHT
TZOFFSETFROM:+0100
TZOFFSETTO:+0200
TZNAME:CEST
DTSTART:20250330T010000
END:DAYLIGHT
BEGIN:STANDARD
TZOFFSETFROM:+0200
TZOFFSETTO:+0100
TZNAME:CET
DTSTART:20251026T010000
END:STANDARD
BEGIN:DAYLIGHT
TZOFFSETFROM:+0100
TZOFFSETTO:+0200
TZNAME:CEST
DTSTART:20260329T010000
END:DAYLIGHT
BEGIN:STANDARD
TZOFFSETFROM:+0200
TZOFFSETTO:+0100
TZNAME:CET
DTSTART:20261025T010000
END:STANDARD
BEGIN:DAYLIGHT
TZOFFSETFROM:+0100
TZOFFSETTO:+0200
TZNAME:CEST
DTSTART:20270328T010000
END:DAYLIGHT
BEGIN:STANDARD
TZOFFSETFROM:+0200
TZOFFSETTO:+0100
TZNAME:CET
DTSTART:20271031T010000
END:STANDARD
END:VTIMEZONE
BEGIN:VEVENT
DTSTART;TZID=Europe/Berlin:20260201T160000
DTEND;TZID=Europe/Berlin:20260201T160000
DTSTAMP:20260422T103857
CREATED:20251201T152034Z
LAST-MODIFIED:20251201T152034Z
UID:650-1769961600-1769961600@minjanffm.de
SUMMARY:Tu biSchwat Seder für Klein und Groß
DESCRIPTION:
URL:https://minjanffm.de/kalender/tu-bischwat-seder-fuer-klein-und-gross/
END:VEVENT
BEGIN:VEVENT
DTSTART;TZID=Europe/Berlin:20260206T183000
DTEND;TZID=Europe/Berlin:20260206T183000
DTSTAMP:20260422T103857
CREATED:20251201T152131Z
LAST-MODIFIED:20251201T152131Z
UID:652-1770402600-1770402600@minjanffm.de
SUMMARY:Schiur / Diskussion mit Dr. Susanne Urban über ihre Arbeit als Leiterin von RIAS Hessen (Recherche- und Informationsstelle Antisemitismus Hessen)
DESCRIPTION:ca. 19:15 Uhr – Kabbalat Schabbat \nca. 20:00 Uhr – Kiddusch mit kl. Abendessen \nParascha „Jitro“ – Tora: 2. BM 18:1-20:23\, Haftara: Jesaja 6:1-7:6; 9:5-6 (aschk.)\, Jesaja 6:1-13
URL:https://minjanffm.de/kalender/schiur-diskussion-mit-dr-susanne-urban-ueber-ihre-arbeit-als-leiterin-von-rias-hessen-recherche-und-informationsstelle-antisemitismus-hessen-2/
END:VEVENT
BEGIN:VEVENT
DTSTART;TZID=Europe/Berlin:20260214T110000
DTEND;TZID=Europe/Berlin:20260214T110000
DTSTAMP:20260422T103857
CREATED:20251201T152207Z
LAST-MODIFIED:20251201T152207Z
UID:654-1771066800-1771066800@minjanffm.de
SUMMARY:Schacharit mit Tora-Lesung - mewarchin hachodesch
DESCRIPTION:ca. 13:00 Uhr – Kiddusch mit kl. Lunch – gefolgt Schiur mit Rabbinerin Elisa Klapheck: „Die Tora der Sieben Prophetinnen im Talmud“ \nParascha „Mischpatim“ – Tora: 2. BM 21:1-24:18\, Maftir: 2. BM 30:11-16; Haftara.: 2 Kön 12:1-17 (aschk.)\, 2 Kön 11:17-12:17 (sef.) \nPräsent und online – Link: https://us06web.zoom.us/j/84517687419?pwd=atTQBjh9bwwary4NN0T\nzByfhbYYbeE.1
URL:https://minjanffm.de/kalender/schacharit-mit-tora-lesung-mewarchin-hachodesch-6/
END:VEVENT
BEGIN:VEVENT
DTSTART;TZID=Europe/Berlin:20260220T183000
DTEND;TZID=Europe/Berlin:20260220T183000
DTSTAMP:20260422T103857
CREATED:20251201T152251Z
LAST-MODIFIED:20251201T152251Z
UID:656-1771612200-1771612200@minjanffm.de
SUMMARY:Online Schiur zur Paraschat Haschawua mit Sylvia Gatto
DESCRIPTION:Parascha „Truma” – Tora: 2. BM 25:1-27:19\, Haftara: 1 Kön 5:26-6:13 \nLink: https://us06web.zoom.us/j/84517687419?pwd=atTQBjh9bwwary4NN0T\nzByfhbYYbeE.1
URL:https://minjanffm.de/kalender/online-schiur-zur-paraschat-haschawua-mit-sylvia-gatto/
END:VEVENT
BEGIN:VEVENT
DTSTART;TZID=Europe/Berlin:20260228T110000
DTEND;TZID=Europe/Berlin:20260228T110000
DTSTAMP:20260422T103857
CREATED:20251201T152321Z
LAST-MODIFIED:20251201T152321Z
UID:658-1772276400-1772276400@minjanffm.de
SUMMARY:Schacharit mit Tora-Lesung
DESCRIPTION:ca. 13:00 Uhr – Kiddusch mit kl. Lunch \nParascha „Tezawe“ – Tora: 2. BM 27:20-30:10\, Maftir: 5. BM 25:17-19; \nPräsent und online – Link: https://us06web.zoom.us/j/7049237923?pwd=SVVLTnJsZnRGdFVaRGs5\nQW0xV2tCdz09&omn=86942264651
URL:https://minjanffm.de/kalender/schacharit-mit-tora-lesung-7/
END:VEVENT
END:VCALENDAR