BEGIN:VCALENDAR
VERSION:2.0
PRODID:-// - ECPv6.15.20//NONSGML v1.0//EN
CALSCALE:GREGORIAN
METHOD:PUBLISH
X-ORIGINAL-URL:https://minjanffm.de
X-WR-CALDESC:Veranstaltungen für 
REFRESH-INTERVAL;VALUE=DURATION:PT1H
X-Robots-Tag:noindex
X-PUBLISHED-TTL:PT1H
BEGIN:VTIMEZONE
TZID:Europe/Berlin
BEGIN:DAYLIGHT
TZOFFSETFROM:+0100
TZOFFSETTO:+0200
TZNAME:CEST
DTSTART:20240331T010000
END:DAYLIGHT
BEGIN:STANDARD
TZOFFSETFROM:+0200
TZOFFSETTO:+0100
TZNAME:CET
DTSTART:20241027T010000
END:STANDARD
BEGIN:DAYLIGHT
TZOFFSETFROM:+0100
TZOFFSETTO:+0200
TZNAME:CEST
DTSTART:20250330T010000
END:DAYLIGHT
BEGIN:STANDARD
TZOFFSETFROM:+0200
TZOFFSETTO:+0100
TZNAME:CET
DTSTART:20251026T010000
END:STANDARD
BEGIN:DAYLIGHT
TZOFFSETFROM:+0100
TZOFFSETTO:+0200
TZNAME:CEST
DTSTART:20260329T010000
END:DAYLIGHT
BEGIN:STANDARD
TZOFFSETFROM:+0200
TZOFFSETTO:+0100
TZNAME:CET
DTSTART:20261025T010000
END:STANDARD
END:VTIMEZONE
BEGIN:VEVENT
DTSTART;TZID=Europe/Berlin:20250905T183000
DTEND;TZID=Europe/Berlin:20250905T183000
DTSTAMP:20260422T103921
CREATED:20250821T124213Z
LAST-MODIFIED:20250821T132110Z
UID:548-1757097000-1757097000@minjanffm.de
SUMMARY:Online Schiur zur Paraschat ha-Schawua mit Samuel Chaim Nascimento
DESCRIPTION:Parascha „Ki Teze“ – Tora: 5. BM 21:10-25:19; Haftara: Jesaja 54:1-10 \nLink: https://us05web.zoom.us/j/88982296524?pwd=K1aaTbL8pVyfcWdlKbcJySbC72r70C.1 \n 
URL:https://minjanffm.de/kalender/online-schiur-zur-paraschat-ha-schawua-mit-samuel-chaim-nascimento/
END:VEVENT
BEGIN:VEVENT
DTSTART;TZID=Europe/Berlin:20250913T110000
DTEND;TZID=Europe/Berlin:20250913T110000
DTSTAMP:20260422T103921
CREATED:20250821T124357Z
LAST-MODIFIED:20250821T131943Z
UID:550-1757761200-1757761200@minjanffm.de
SUMMARY:Schacharit mit Tora-Lesung
DESCRIPTION:ca. 13:00 Uhr – Kiddusch mit kl. Lunch \nParascha „Ki Tawo“ – Tora: 5. BM 26:1-29:8; Haftara: Jesaja 60:1-22 \nPräsent und online – Link: https://us06web.zoom.us/j/7049237923?pwd=SVVLTnJsZnRGdFVaRGs5QW0xV2tCdz09&omn=86942264651
URL:https://minjanffm.de/kalender/schacharit-mit-tora-lesung-4/
END:VEVENT
BEGIN:VEVENT
DTSTART;TZID=Europe/Berlin:20250919T163000
DTEND;TZID=Europe/Berlin:20250919T163000
DTSTAMP:20260422T103921
CREATED:20250821T125124Z
LAST-MODIFIED:20250821T130127Z
UID:552-1758299400-1758299400@minjanffm.de
SUMMARY:Liederworkshop zu den Hohen Feiertagen mit Chasan Daniel Kempin
DESCRIPTION:ca. 17:30 Uhr – Kabbalat Schabbat für Klein und Groß \nca. 18:00 Uhr – Kiddusch mit kl. Abendessen \nParascha „Nizawim“ – Tora: 5. BM 29:9-30:20; Haftara: Jesaja 61:10-\n63:9
URL:https://minjanffm.de/kalender/liederworkshop-zu-den-hohen-feiertagen-mit-chasan-daniel-kempin/
END:VEVENT
BEGIN:VEVENT
DTSTART;TZID=Europe/Berlin:20250922T190000
DTEND;TZID=Europe/Berlin:20250922T190000
DTSTAMP:20260422T103921
CREATED:20250821T125314Z
LAST-MODIFIED:20250821T125314Z
UID:557-1758567600-1758567600@minjanffm.de
SUMMARY:Erew Rosch Haschana
DESCRIPTION:
URL:https://minjanffm.de/kalender/erew-rosch-haschana/
END:VEVENT
BEGIN:VEVENT
DTSTART;TZID=Europe/Berlin:20250923T100000
DTEND;TZID=Europe/Berlin:20250923T100000
DTSTAMP:20260422T103921
CREATED:20250821T125358Z
LAST-MODIFIED:20250821T132134Z
UID:559-1758621600-1758621600@minjanffm.de
SUMMARY:1. Tag Rosch Haschana
DESCRIPTION:Schofar ca. 12:00 Uhr \nTaschlich ca. 14:30 Uhr
URL:https://minjanffm.de/kalender/1-tag-rosch-haschana/
END:VEVENT
BEGIN:VEVENT
DTSTART;TZID=Europe/Berlin:20250926T183000
DTEND;TZID=Europe/Berlin:20250926T183000
DTSTAMP:20260422T103921
CREATED:20250821T125229Z
LAST-MODIFIED:20250821T132256Z
UID:555-1758911400-1758911400@minjanffm.de
SUMMARY:Online Schiur zu Schabbat Schuwa mit Rabbinerin Elisa Klapheck
DESCRIPTION:Parascha „Wajelech“ – Tora: 5. BM 31:1-31:30; Haftara: Hosea 14:2-10;\nMicha 7:18-20 \nLink: https://us06web.zoom.us/j/84517687419?pwd=atTQBjh9bwwary4NN0TzByfhbYYbeE.1
URL:https://minjanffm.de/kalender/online-schiur-zu-schabbat-schuwa-mit-rabbinerin-elisa-klapheck/
END:VEVENT
END:VCALENDAR