BEGIN:VCALENDAR
VERSION:2.0
PRODID:-// - ECPv6.15.20//NONSGML v1.0//EN
CALSCALE:GREGORIAN
METHOD:PUBLISH
X-ORIGINAL-URL:https://minjanffm.de
X-WR-CALDESC:Veranstaltungen für 
REFRESH-INTERVAL;VALUE=DURATION:PT1H
X-Robots-Tag:noindex
X-PUBLISHED-TTL:PT1H
BEGIN:VTIMEZONE
TZID:Europe/Berlin
BEGIN:DAYLIGHT
TZOFFSETFROM:+0100
TZOFFSETTO:+0200
TZNAME:CEST
DTSTART:20240331T010000
END:DAYLIGHT
BEGIN:STANDARD
TZOFFSETFROM:+0200
TZOFFSETTO:+0100
TZNAME:CET
DTSTART:20241027T010000
END:STANDARD
BEGIN:DAYLIGHT
TZOFFSETFROM:+0100
TZOFFSETTO:+0200
TZNAME:CEST
DTSTART:20250330T010000
END:DAYLIGHT
BEGIN:STANDARD
TZOFFSETFROM:+0200
TZOFFSETTO:+0100
TZNAME:CET
DTSTART:20251026T010000
END:STANDARD
BEGIN:DAYLIGHT
TZOFFSETFROM:+0100
TZOFFSETTO:+0200
TZNAME:CEST
DTSTART:20260329T010000
END:DAYLIGHT
BEGIN:STANDARD
TZOFFSETFROM:+0200
TZOFFSETTO:+0100
TZNAME:CET
DTSTART:20261025T010000
END:STANDARD
END:VTIMEZONE
BEGIN:VEVENT
DTSTART;TZID=Europe/Berlin:20251018T110000
DTEND;TZID=Europe/Berlin:20251018T110000
DTSTAMP:20260422T122425
CREATED:20250821T130024Z
LAST-MODIFIED:20250821T132423Z
UID:574-1760785200-1760785200@minjanffm.de
SUMMARY:Schacharit mit Tora-Lesung – mewarchin hachodesch
DESCRIPTION:ca. 13:00 Uhr – Kiddusch mit kl. Lunch\, gefolgt von neuer Schiur-Reihe mit\nRabbinerin Elisa Klapheck über „Die Sieben Prophetinnen im Talmud“ \nParascha “Bereschit” – Tora: 1. BM 1:1-6:8; Haftara: Jesaja 42:5-43:10\n(aschk.)\, 42:5-21 (sef.) \nPräsent und online – Link: https://us06web.zoom.us/j/84517687419?pwd=atTQBjh9bwwary4NN0TzByfhbYYbeE.1
URL:https://minjanffm.de/kalender/schacharit-mit-tora-lesung-mewarchin-hachodesch/
END:VEVENT
END:VCALENDAR